BEGIN:VCALENDAR
VERSION:2.0
PRODID:-//Logroñes.es - ECPv6.15.0.1//NONSGML v1.0//EN
CALSCALE:GREGORIAN
METHOD:PUBLISH
X-ORIGINAL-URL:https://logrones.es
X-WR-CALDESC:Eventos para Logroñes.es
REFRESH-INTERVAL;VALUE=DURATION:PT1H
X-Robots-Tag:noindex
X-PUBLISHED-TTL:PT1H
BEGIN:VTIMEZONE
TZID:Europe/Madrid
BEGIN:DAYLIGHT
TZOFFSETFROM:+0100
TZOFFSETTO:+0200
TZNAME:CEST
DTSTART:20250330T010000
END:DAYLIGHT
BEGIN:STANDARD
TZOFFSETFROM:+0200
TZOFFSETTO:+0100
TZNAME:CET
DTSTART:20251026T010000
END:STANDARD
END:VTIMEZONE
BEGIN:VEVENT
DTSTART;TZID=Europe/Madrid:20250920T183000
DTEND;TZID=Europe/Madrid:20250920T200000
DTSTAMP:20260419T144319
CREATED:20250914T090105Z
LAST-MODIFIED:20250914T091827Z
UID:938-1758393000-1758398400@logrones.es
SUMMARY:Degustación de Preñados - San Mateo 2025
DESCRIPTION:El sábado 20\, el mismo día que el cohete anunciador de las Fiestas de San Mateo 2025\, la Peña Aster organiza su Degustación de Preñaos a las 18:30h en la Plaza de San Agustín (En la Plaza del Museo de La Rioja). \nUn buen tentenpié para reponer fuerzas tras el cohete!! \n 
URL:https://logrones.es/evento/degustacion-de-prenados-san-mateo-2025/
LOCATION:Plaza de San Agustín\, Plaza San Agustín\, Logroño\, La Rioja\, 26001\, Spain
CATEGORIES:Degustación
ATTACH;FMTTYPE=image/jpeg:https://logrones.es/wp-content/uploads/2025/09/degustacion-bollo-prenado-san-mateo-2025.jpg
END:VEVENT
BEGIN:VEVENT
DTSTART;TZID=Europe/Madrid:20250920T193000
DTEND;TZID=Europe/Madrid:20250920T203000
DTSTAMP:20260419T144319
CREATED:20250914T093026Z
LAST-MODIFIED:20250914T093026Z
UID:965-1758396600-1758400200@logrones.es
SUMMARY:Degustación de Croquetas - San Mateo 2025
DESCRIPTION:El sábado 20 de septiembre\, a las 19:30h\, Degustación de Croquetas organizada por la Peña Los Brincos. \nUna buena manera de reponer fuerzas tras el cohete anunciador de las Fiestas de San Mateo 2025 que comienzan ese mismo día en Logroño.
URL:https://logrones.es/evento/degustacion-de-croquetas-san-mateo-2025/
LOCATION:La Rioja
CATEGORIES:Degustación
ATTACH;FMTTYPE=image/jpeg:https://logrones.es/wp-content/uploads/2025/09/degustacion-croquetas-san-mateo-2025.jpg
END:VEVENT
BEGIN:VEVENT
DTSTART;TZID=Europe/Madrid:20250920T193000
DTEND;TZID=Europe/Madrid:20250920T210000
DTSTAMP:20260419T144319
CREATED:20250914T093558Z
LAST-MODIFIED:20250914T093558Z
UID:971-1758396600-1758402000@logrones.es
SUMMARY:Bingo Musical - Peña Los Brincos - San Mateo 2025
DESCRIPTION:El 20 de septiembre\, día de comienzo de las fiestas de San Mateo 2025 de Logroño\, la Peña Los Brincos celebra su IV bingo musical\, a las 19:30h en la Calle Ateneo Riojano\, número 25. \nEsto sí que es comenzar las fiestas por todo lo alto!
URL:https://logrones.es/evento/bingo-musical-pena-los-brincos-san-mateo-2025/
LOCATION:Ateneo Riojano 25\, Calle Ateneo Riojano 25\, Logroño\, La Rioja\, 26004\, Spain
CATEGORIES:Concierto
ATTACH;FMTTYPE=image/jpeg:https://logrones.es/wp-content/uploads/2025/09/bingo-musical-san-mateo-2025-los-brincos-logrono.jpg
END:VEVENT
END:VCALENDAR