BEGIN:VCALENDAR
VERSION:2.0
PRODID:-//Logroñes.es - ECPv6.15.0.1//NONSGML v1.0//EN
CALSCALE:GREGORIAN
METHOD:PUBLISH
X-ORIGINAL-URL:https://logrones.es
X-WR-CALDESC:Eventos para Logroñes.es
REFRESH-INTERVAL;VALUE=DURATION:PT1H
X-Robots-Tag:noindex
X-PUBLISHED-TTL:PT1H
BEGIN:VTIMEZONE
TZID:Europe/Madrid
BEGIN:DAYLIGHT
TZOFFSETFROM:+0100
TZOFFSETTO:+0200
TZNAME:CEST
DTSTART:20250330T010000
END:DAYLIGHT
BEGIN:STANDARD
TZOFFSETFROM:+0200
TZOFFSETTO:+0100
TZNAME:CET
DTSTART:20251026T010000
END:STANDARD
END:VTIMEZONE
BEGIN:VEVENT
DTSTART;TZID=Europe/Madrid:20250922T210000
DTEND;TZID=Europe/Madrid:20250922T223000
DTSTAMP:20260419T144324
CREATED:20250914T081857Z
LAST-MODIFIED:20250914T091854Z
UID:921-1758574800-1758580200@logrones.es
SUMMARY:Noches Dulces con Crepes y Mojitos - San Mateo 2025
DESCRIPTION:El lunes 22 de septiembre\, en plenas fiestas de San Mateo de Logroño\, Peña La Uva prepara sus ya tradicionales Noches dulces con Crepes y Mojitos. \nA las 21:00h en su chamizo ubicado en la calle Doce Ligero\, 29 de Logroño.
URL:https://logrones.es/evento/noches-dulces-con-crepes-y-mojitos-san-mateo-2025/
LOCATION:Chamizo Peña La Uva\, Calle Doce Ligero\, 29\, Logroño\, La Rioja\, 26004\, Spain
CATEGORIES:Degustación
ATTACH;FMTTYPE=image/jpeg:https://logrones.es/wp-content/uploads/2025/09/noches-dulces-pena-la-uva-2025.jpg
END:VEVENT
END:VCALENDAR