BEGIN:VCALENDAR
VERSION:2.0
PRODID:-//Logroñes.es - ECPv6.15.0.1//NONSGML v1.0//EN
CALSCALE:GREGORIAN
METHOD:PUBLISH
X-WR-CALNAME:Logroñes.es
X-ORIGINAL-URL:https://logrones.es
X-WR-CALDESC:Eventos para Logroñes.es
REFRESH-INTERVAL;VALUE=DURATION:PT1H
X-Robots-Tag:noindex
X-PUBLISHED-TTL:PT1H
BEGIN:VTIMEZONE
TZID:Europe/Madrid
BEGIN:DAYLIGHT
TZOFFSETFROM:+0100
TZOFFSETTO:+0200
TZNAME:CEST
DTSTART:20250330T010000
END:DAYLIGHT
BEGIN:STANDARD
TZOFFSETFROM:+0200
TZOFFSETTO:+0100
TZNAME:CET
DTSTART:20251026T010000
END:STANDARD
END:VTIMEZONE
BEGIN:VEVENT
DTSTART;TZID=Europe/Madrid:20250923T110000
DTEND;TZID=Europe/Madrid:20250923T130000
DTSTAMP:20260419T143953
CREATED:20250914T091102Z
LAST-MODIFIED:20250914T091102Z
UID:949-1758625200-1758632400@logrones.es
SUMMARY:Pinchos Morunos - Semana Gastronómica - San Mateo 2025
DESCRIPTION:En pleno centro de Logroño\, en la Plaza del Mercado\, dentro de la Semana Gastronómica\, La Peña Aster organiza su Festival de Pinchos Morunos. \nA las 11:00h del 23 de septiembre en la Plaza del Mercado.
URL:https://logrones.es/evento/pinchos-morunos-semana-gastronomica-san-mateo-2025/
LOCATION:Plaza del Mercado\, Pl. del Mercado\, Logroño\, La Rioja\, 26001\, Spain
CATEGORIES:Degustación
ATTACH;FMTTYPE=image/jpeg:https://logrones.es/wp-content/uploads/2025/09/semana-gastronomica-aster-pincho-moruno-san-mateo-2025.jpg
END:VEVENT
END:VCALENDAR